BEGIN:VCALENDAR
VERSION:2.0
PRODID:icalendar-ruby
CALSCALE:GREGORIAN
METHOD:PUBLISH
BEGIN:VEVENT
DTSTAMP:20260420T042228Z
UID:5-390155@focuskc.org
DTSTART:20260628T153000Z
DTEND:20260628T163000Z
CLASS:PUBLIC
CREATED:20260419T223421
DESCRIPTION:Sunday Worship
LAST-MODIFIED:20260419T223421
LOCATION:
SUMMARY:Sunday Worship
URL;VALUE=URI:https://focuskc.org/events/sunday-worship/2026-06-28
END:VEVENT
END:VCALENDAR
