BEGIN:VCALENDAR
VERSION:2.0
PRODID:icalendar-ruby
CALSCALE:GREGORIAN
METHOD:PUBLISH
BEGIN:VEVENT
DTSTAMP:20260423T141622Z
UID:5-395390@focuskc.org
DTSTART:20261011T153000Z
DTEND:20261011T163000Z
CLASS:PUBLIC
CREATED:20260423T071345
DESCRIPTION:Sunday Worship
LAST-MODIFIED:20260423T071345
LOCATION:
SUMMARY:Sunday Worship
URL;VALUE=URI:https://focuskc.org/events/sunday-worship/2026-10-11
END:VEVENT
END:VCALENDAR
